BEGIN:VCALENDAR
VERSION:2.0
PRODID:-//AudioTheme 3.0.2
BEGIN:VEVENT
UID:urn:uuid:4d5c64dd-ca1d-4930-b92c-80caa1601db1
URL:https://regishuby.com/concerts/christophe-marguet-4tet-echoes-of-time/
DTSTART;VALUE=DATE:20230324
SUMMARY:Christophe Marguet 4tet "Echoes of Time"
LOCATION:Moulin de Boigny\, Moulin de Boigny\, Méréville (91)\, \, France
END:VEVENT
END:VCALENDAR
